BEGIN:VCALENDAR
VERSION:1.0
PRODID:-//Microsoft Corporation//Outlook 9.0 MIMEDIR//EN
BEGIN:VEVENT
DTSTART;VALUE=DATE-TIME:20171221T113000
DTEND;VALUE=DATE-TIME:
SUMMARY:The Parlour Social
DESCRIPTION:CLASSICAL MEETS RAGTIME

In a most unwelcome development, 'The Parlour Social' will be once again be brashly butchering the greatest music penned by man and reforming this musical Frankenstein using the magic of Ragtime!
LOCATION:
END:VEVENT
END:VCALENDAR

