BEGIN:VCALENDAR
VERSION:1.0
PRODID:-//Microsoft Corporation//Outlook 9.0 MIMEDIR//EN
BEGIN:VEVENT
DTSTART;VALUE=DATE-TIME:20170812T090000
DTEND;VALUE=DATE-TIME:
SUMMARY:Queen Porter Stomp
DESCRIPTION:Queen Porter Stomp use their dirty swamp magic to shirk those blues, with banjo, horns and harmonies that scream to your soul.
LOCATION:
END:VEVENT
END:VCALENDAR

