BEGIN:VCALENDAR
VERSION:1.0
PRODID:-//Microsoft Corporation//Outlook 9.0 MIMEDIR//EN
BEGIN:VEVENT
DTSTART;VALUE=DATE-TIME:20161008T040000
DTEND;VALUE=DATE-TIME:
SUMMARY:Read Like a Feminist Book Club: The Hate Race
DESCRIPTION:
LOCATION:
END:VEVENT
END:VCALENDAR

