BEGIN:VCALENDAR
VERSION:2.0
PRODID:-//Eventsity//NONSGML v1.0//EN
CALSCALE:GREGORIAN
METHOD:PUBLISH
X-WR-CALNAME:Smith's Alternative
X-ORIGINAL-URL:http://www.smithsalternative.com
X-WR-CALDESC:Events for Smith's Alternative
BEGIN:VEVENT
DTSTART;VALUE=DATE-TIME:
DTEND;VALUE=DATE-TIME:20260515T130000
DTSTAMP:20260421T195855
CREATED:20260415T145223
LAST-MODIFIED:20260415T145748
UID:admin@eventsity.com
SUMMARY:Beddy Rays
DESCRIPTION:
URL:http://www.smithsalternative.com/events/beddy-rays-96516
LOCATION:
ATTACH;FMTTYPE=image/jpeg:http://www.smithsalternative.com/infomaxim/assets/images/66/96516/f__33507_beddy-rays.jpg
END:VEVENT
END:VCALENDAR