BEGIN:VCALENDAR
VERSION:2.0
PRODID:-//Eventsity//NONSGML v1.0//EN
CALSCALE:GREGORIAN
METHOD:PUBLISH
X-WR-CALNAME:Smith's Alternative
X-ORIGINAL-URL:http://www.smithsalternative.com
X-WR-CALDESC:Events for Smith's Alternative
BEGIN:VEVENT
DTSTART;VALUE=DATE-TIME:
DTEND;VALUE=DATE-TIME:20260423T113000
DTSTAMP:20260423T004050
CREATED:20260412T184047
LAST-MODIFIED:20260412T192154
UID:admin@eventsity.com
SUMMARY:BYWAYS
DESCRIPTION:After the raging success of their initial performance Ben Marston, Chris...
URL:http://www.smithsalternative.com/events/byways-96493
LOCATION:
ATTACH;FMTTYPE=image/jpeg:http://www.smithsalternative.com/infomaxim/assets/images/66/96493/f__33499_byw.jpg
END:VEVENT
END:VCALENDAR