BEGIN:VCALENDAR
VERSION:2.0
PRODID:-//Eventsity//NONSGML v1.0//EN
CALSCALE:GREGORIAN
METHOD:PUBLISH
X-WR-CALNAME:Smith's Alternative
X-ORIGINAL-URL:http://www.smithsalternative.com
X-WR-CALDESC:Events for Smith's Alternative
BEGIN:VEVENT
DTSTART;VALUE=DATE-TIME:
DTEND;VALUE=DATE-TIME:20260529T113000
DTSTAMP:20260420T172110
CREATED:20260409T124433
LAST-MODIFIED:20260409T130209
UID:admin@eventsity.com
SUMMARY:DAMIAN WRIGHT flamenco guitar & GARY DALEY piano accordion
DESCRIPTION:An enchanting combination of instruments and musical flavours from flamenco,...
URL:http://www.smithsalternative.com/events/damian-wright-gary-daley
LOCATION:
ATTACH;FMTTYPE=image/jpeg:http://www.smithsalternative.com/infomaxim/assets/images/66/96405/f__33473_banda.jpg
END:VEVENT
END:VCALENDAR