BEGIN:VCALENDAR
VERSION:2.0
PRODID:-//Eventsity//NONSGML v1.0//EN
CALSCALE:GREGORIAN
METHOD:PUBLISH
X-WR-CALNAME:Smith's Alternative
X-ORIGINAL-URL:http://www.smithsalternative.com
X-WR-CALDESC:Events for Smith's Alternative
BEGIN:VEVENT
DTSTART;VALUE=DATE-TIME:
DTEND;VALUE=DATE-TIME:20260529T133000
DTSTAMP:20260421T195849
CREATED:20260407T074728
LAST-MODIFIED:20260407T080532
UID:admin@eventsity.com
SUMMARY:Hana and Jessie-Lee's Bad Habits
DESCRIPTION:with special guest Dana Hassall
URL:http://www.smithsalternative.com/events/hana-jessie-lees-bad-habits-96349
LOCATION:
ATTACH;FMTTYPE=image/jpeg:http://www.smithsalternative.com/infomaxim/assets/images/66/96349/f__33347_hana.jpg
END:VEVENT
END:VCALENDAR