BEGIN:VCALENDAR
VERSION:2.0
PRODID:-//Eventsity//NONSGML v1.0//EN
CALSCALE:GREGORIAN
METHOD:PUBLISH
X-WR-CALNAME:Smith's Alternative
X-ORIGINAL-URL:http://www.smithsalternative.com
X-WR-CALDESC:Events for Smith's Alternative
BEGIN:VEVENT
DTSTART;VALUE=DATE-TIME:
DTEND;VALUE=DATE-TIME:20260308T110000
DTSTAMP:20260421T200324
CREATED:20260214T202924
LAST-MODIFIED:20260214T204508
UID:admin@eventsity.com
SUMMARY:Pat Powell
DESCRIPTION:with Damien Slingsby, Nick Hoorweg and Col Hoorweg
URL:http://www.smithsalternative.com/events/pat-powell-95451
LOCATION:
ATTACH;FMTTYPE=image/jpeg:http://www.smithsalternative.com/infomaxim/assets/images/66/95451/f__33025_pp.jpg
END:VEVENT
END:VCALENDAR