BEGIN:VCALENDAR
VERSION:2.0
PRODID:-//Eventsity//NONSGML v1.0//EN
CALSCALE:GREGORIAN
METHOD:PUBLISH
X-WR-CALNAME:Smith's Alternative
X-ORIGINAL-URL:http://www.smithsalternative.com
X-WR-CALDESC:Events for Smith's Alternative
BEGIN:VEVENT
DTSTART;VALUE=DATE-TIME:
DTEND;VALUE=DATE-TIME:20260208T060000
DTSTAMP:20260421T200206
CREATED:20260203T160357
LAST-MODIFIED:20260203T160711
UID:admin@eventsity.com
SUMMARY:Joe Oppenheimer
DESCRIPTION:with Jeff Thompson and Aya-Rosa
URL:http://www.smithsalternative.com/events/joe-oppenheimer-95268
LOCATION:
ATTACH;FMTTYPE=image/jpeg:http://www.smithsalternative.com/infomaxim/assets/images/66/95268/f__32986_joe.jpg
END:VEVENT
END:VCALENDAR