BEGIN:VCALENDAR
VERSION:2.0
PRODID:-//Eventsity//NONSGML v1.0//EN
CALSCALE:GREGORIAN
METHOD:PUBLISH
X-WR-CALNAME:Smith's Alternative
X-ORIGINAL-URL:http://www.smithsalternative.com
X-WR-CALDESC:Events for Smith's Alternative
BEGIN:VEVENT
DTSTART;VALUE=DATE-TIME:
DTEND;VALUE=DATE-TIME:20260213T110000
DTSTAMP:20260421T200329
CREATED:20260131T122437
LAST-MODIFIED:20260211T164219
UID:admin@eventsity.com
SUMMARY:Enda Kenny
DESCRIPTION:"The finest Irish songwriter living overseas" - Colum Sands
URL:http://www.smithsalternative.com/events/enda-kenny-95255
LOCATION:
ATTACH;FMTTYPE=image/jpeg:http://www.smithsalternative.com/infomaxim/assets/images/66/95255/f__32981_enda.jpg
END:VEVENT
END:VCALENDAR