BEGIN:VCALENDAR
VERSION:2.0
PRODID:-//Eventsity//NONSGML v1.0//EN
CALSCALE:GREGORIAN
METHOD:PUBLISH
X-WR-CALNAME:Smith's Alternative
X-ORIGINAL-URL:http://www.smithsalternative.com
X-WR-CALDESC:Events for Smith's Alternative
BEGIN:VEVENT
DTSTART;VALUE=DATE-TIME:
DTEND;VALUE=DATE-TIME:20260207T130000
DTSTAMP:20260421T200452
CREATED:20260125T123753
LAST-MODIFIED:20260125T134506
UID:admin@eventsity.com
SUMMARY:Afro Moses
DESCRIPTION:+Big Surprise Guest Super Stars.To raise money for Afro Moses's Village...
URL:http://www.smithsalternative.com/events/afro-moses-95141
LOCATION:
ATTACH;FMTTYPE=image/jpeg:http://www.smithsalternative.com/infomaxim/assets/images/66/95141/f__32955_afro.jpg
END:VEVENT
END:VCALENDAR