BEGIN:VCALENDAR
VERSION:2.0
PRODID:-//Eventsity//NONSGML v1.0//EN
CALSCALE:GREGORIAN
METHOD:PUBLISH
X-WR-CALNAME:Smith's Alternative
X-ORIGINAL-URL:http://www.smithsalternative.com
X-WR-CALDESC:Events for Smith's Alternative
BEGIN:VEVENT
DTSTART;VALUE=DATE-TIME:
DTEND;VALUE=DATE-TIME:20260207T080000
DTSTAMP:20260421T200200
CREATED:20260123T174002
LAST-MODIFIED:20260123T185202
UID:admin@eventsity.com
SUMMARY:Byron & Kon
DESCRIPTION:Join us in Smith's cosy upstairs bar for an intimate afternoon of Greek ...
URL:http://www.smithsalternative.com/events/byron-kon-95089
LOCATION:
ATTACH;FMTTYPE=image/jpeg:http://www.smithsalternative.com/infomaxim/assets/images/66/95089/f__32946_byron__.jpg
END:VEVENT
END:VCALENDAR