BEGIN:VCALENDAR
VERSION:2.0
PRODID:-//Eventsity//NONSGML v1.0//EN
CALSCALE:GREGORIAN
METHOD:PUBLISH
X-WR-CALNAME:Smith's Alternative
X-ORIGINAL-URL:http://www.smithsalternative.com
X-WR-CALDESC:Events for Smith's Alternative
BEGIN:VEVENT
DTSTART;VALUE=DATE-TIME:
DTEND;VALUE=DATE-TIME:20260515T100000
DTSTAMP:20260423T095736
CREATED:20260115T170621
LAST-MODIFIED:20260115T171107
UID:admin@eventsity.com
SUMMARY:Ciang Ajeic
DESCRIPTION:
URL:http://www.smithsalternative.com/events/ciang-ajeic-95016
LOCATION:
ATTACH;FMTTYPE=image/jpeg:http://www.smithsalternative.com/infomaxim/assets/images/66/95016/f__32927_ciang_ajeic.jpg
END:VEVENT
END:VCALENDAR