BEGIN:VCALENDAR
VERSION:2.0
PRODID:-//Eventsity//NONSGML v1.0//EN
CALSCALE:GREGORIAN
METHOD:PUBLISH
X-WR-CALNAME:Smith's Alternative
X-ORIGINAL-URL:http://www.smithsalternative.com
X-WR-CALDESC:Events for Smith's Alternative
BEGIN:VEVENT
DTSTART;VALUE=DATE-TIME:
DTEND;VALUE=DATE-TIME:20251101T103000
DTSTAMP:20260422T030725
CREATED:20251027T160115
LAST-MODIFIED:20251029T003804
UID:admin@eventsity.com
SUMMARY:DAY OF THE DEAD ALL-DAY FESTIVAL
DESCRIPTION:
URL:http://www.smithsalternative.com/events/day-of-the-dead-all-day-festival-94079
LOCATION:
ATTACH;FMTTYPE=image/jpeg:http://www.smithsalternative.com/infomaxim/assets/images/66/94079/f__32719_dotd_new.jpg
END:VEVENT
END:VCALENDAR