BEGIN:VCALENDAR
VERSION:2.0
PRODID:-//Eventsity//NONSGML v1.0//EN
CALSCALE:GREGORIAN
METHOD:PUBLISH
X-WR-CALNAME:Smith's Alternative
X-ORIGINAL-URL:http://www.smithsalternative.com
X-WR-CALDESC:Events for Smith's Alternative
BEGIN:VEVENT
DTSTART;VALUE=DATE-TIME:
DTEND;VALUE=DATE-TIME:20251018T070000
DTSTAMP:20260420T234827
CREATED:20250924T151525
LAST-MODIFIED:20250924T152901
UID:admin@eventsity.com
SUMMARY:Persian Music Night 6
DESCRIPTION:
URL:http://www.smithsalternative.com/events/persian-music-night-6-93560
LOCATION:
ATTACH;FMTTYPE=image/jpeg:http://www.smithsalternative.com/infomaxim/assets/images/66/93560/f__32586_per.jpg
END:VEVENT
END:VCALENDAR