BEGIN:VCALENDAR
VERSION:2.0
PRODID:-//Eventsity//NONSGML v1.0//EN
CALSCALE:GREGORIAN
METHOD:PUBLISH
X-WR-CALNAME:Smith's Alternative
X-ORIGINAL-URL:http://www.smithsalternative.com
X-WR-CALDESC:Events for Smith's Alternative
BEGIN:VEVENT
DTSTART;VALUE=DATE-TIME:
DTEND;VALUE=DATE-TIME:20260208T063000
DTSTAMP:20260421T211528
CREATED:20250918T190356
LAST-MODIFIED:20250918T191839
UID:admin@eventsity.com
SUMMARY:Dan Walsh banjo workshop
DESCRIPTION:
URL:http://www.smithsalternative.com/events/dan-walsh-banjo-workshop-93465
LOCATION:
ATTACH;FMTTYPE=image/jpeg:http://www.smithsalternative.com/infomaxim/assets/images/66/93465/f__32564_dan_walsh.jpg
END:VEVENT
END:VCALENDAR