BEGIN:VCALENDAR
VERSION:2.0
PRODID:-//Eventsity//NONSGML v1.0//EN
CALSCALE:GREGORIAN
METHOD:PUBLISH
X-WR-CALNAME:Smith's Alternative
X-ORIGINAL-URL:http://www.smithsalternative.com
X-WR-CALDESC:Events for Smith's Alternative
BEGIN:VEVENT
DTSTART;VALUE=DATE-TIME:
DTEND;VALUE=DATE-TIME:20250826T103000
DTSTAMP:20260423T023850
CREATED:20250816T162331
LAST-MODIFIED:20250816T213806
UID:admin@eventsity.com
SUMMARY:John Mackey Project
DESCRIPTION:A new project by Canberra based saxophonist John Mackey, sees the bringing...
URL:http://www.smithsalternative.com/events/john-mackey-project-92837
LOCATION:
ATTACH;FMTTYPE=image/jpeg:http://www.smithsalternative.com/infomaxim/assets/images/66/92837/f__32419_jmp.jpg
END:VEVENT
END:VCALENDAR