BEGIN:VCALENDAR
VERSION:2.0
PRODID:-//Eventsity//NONSGML v1.0//EN
CALSCALE:GREGORIAN
METHOD:PUBLISH
X-WR-CALNAME:Smith's Alternative
X-ORIGINAL-URL:http://www.smithsalternative.com
X-WR-CALDESC:Events for Smith's Alternative
BEGIN:VEVENT
DTSTART;VALUE=DATE-TIME:
DTEND;VALUE=DATE-TIME:20250822T113000
DTSTAMP:20260423T023208
CREATED:20250813T121139
LAST-MODIFIED:20250813T121959
UID:admin@eventsity.com
SUMMARY:The Internet Was Busy
DESCRIPTION:Can you hear that? The internet sure is one hell of a noisy place these days....
URL:http://www.smithsalternative.com/events/the-internet-was-busy-92770
LOCATION:
ATTACH;FMTTYPE=image/jpeg:http://www.smithsalternative.com/infomaxim/assets/images/66/92770/f__32403_busy.jpg
END:VEVENT
END:VCALENDAR