BEGIN:VCALENDAR
VERSION:2.0
PRODID:-//Eventsity//NONSGML v1.0//EN
CALSCALE:GREGORIAN
METHOD:PUBLISH
X-WR-CALNAME:Smith's Alternative
X-ORIGINAL-URL:http://www.smithsalternative.com
X-WR-CALDESC:Events for Smith's Alternative
BEGIN:VEVENT
DTSTART;VALUE=DATE-TIME:
DTEND;VALUE=DATE-TIME:20250923T110000
DTSTAMP:20260422T224249
CREATED:20250812T191353
LAST-MODIFIED:20250812T192807
UID:admin@eventsity.com
SUMMARY:The Queer Variety Show
DESCRIPTION:The Queer Variety Show is a joyful celebration of performance art. It features...
URL:http://www.smithsalternative.com/events/the-queer-variety-show-92762
LOCATION:
ATTACH;FMTTYPE=image/jpeg:http://www.smithsalternative.com/infomaxim/assets/images/66/92762/f__32401_qvsss.jpg
END:VEVENT
END:VCALENDAR