BEGIN:VCALENDAR
VERSION:2.0
PRODID:-//Eventsity//NONSGML v1.0//EN
CALSCALE:GREGORIAN
METHOD:PUBLISH
X-WR-CALNAME:Smith's Alternative
X-ORIGINAL-URL:http://www.smithsalternative.com
X-WR-CALDESC:Events for Smith's Alternative
BEGIN:VEVENT
DTSTART;VALUE=DATE-TIME:
DTEND;VALUE=DATE-TIME:20250824T080000
DTSTAMP:20260423T023234
CREATED:20250722T202844
LAST-MODIFIED:20250722T205106
UID:admin@eventsity.com
SUMMARY:Mal Webb and Kylie Morrigan
DESCRIPTION:
URL:http://www.smithsalternative.com/events/mal-webb-and-kylie-morrigan-92520
LOCATION:
ATTACH;FMTTYPE=image/jpeg:http://www.smithsalternative.com/infomaxim/assets/images/66/92520/f__29709_malky.jpg
END:VEVENT
END:VCALENDAR