BEGIN:VCALENDAR
VERSION:2.0
PRODID:-//Eventsity//NONSGML v1.0//EN
CALSCALE:GREGORIAN
METHOD:PUBLISH
X-WR-CALNAME:Smith's Alternative
X-ORIGINAL-URL:http://www.smithsalternative.com
X-WR-CALDESC:Events for Smith's Alternative
BEGIN:VEVENT
DTSTART;VALUE=DATE-TIME:
DTEND;VALUE=DATE-TIME:20251029T110000
DTSTAMP:20260425T022410
CREATED:20250602T212002
LAST-MODIFIED:20250917T122926
UID:admin@eventsity.com
SUMMARY:Scott Cook
DESCRIPTION:
URL:http://www.smithsalternative.com/events/scott-cook-91889
LOCATION:
ATTACH;FMTTYPE=image/jpeg:http://www.smithsalternative.com/infomaxim/assets/images/66/91889/f__32149_scook.jpg
END:VEVENT
END:VCALENDAR