BEGIN:VCALENDAR
VERSION:2.0
PRODID:-//Eventsity//NONSGML v1.0//EN
CALSCALE:GREGORIAN
METHOD:PUBLISH
X-WR-CALNAME:Smith's Alternative
X-ORIGINAL-URL:http://www.smithsalternative.com
X-WR-CALDESC:Events for Smith's Alternative
BEGIN:VEVENT
DTSTART;VALUE=DATE-TIME:
DTEND;VALUE=DATE-TIME:20250719T100000
DTSTAMP:20260421T210549
CREATED:20250522T123450
LAST-MODIFIED:20250716T165640
UID:admin@eventsity.com
SUMMARY:Domini Forster
DESCRIPTION:
URL:http://www.smithsalternative.com/events/domini-forster-91714
LOCATION:
ATTACH;FMTTYPE=image/jpeg:http://www.smithsalternative.com/infomaxim/assets/images/66/91714/f__32090_domini_forster.jpg
END:VEVENT
END:VCALENDAR