BEGIN:VCALENDAR
VERSION:2.0
PRODID:-//Eventsity//NONSGML v1.0//EN
CALSCALE:GREGORIAN
METHOD:PUBLISH
X-WR-CALNAME:Smith's Alternative
X-ORIGINAL-URL:http://www.smithsalternative.com
X-WR-CALDESC:Events for Smith's Alternative
BEGIN:VEVENT
DTSTART;VALUE=DATE-TIME:
DTEND;VALUE=DATE-TIME:20250510T080000
DTSTAMP:20260426T022611
CREATED:20250417T004517
LAST-MODIFIED:20250425T221229
UID:admin@eventsity.com
SUMMARY:The NOW Show
DESCRIPTION:Smith's Cabaret Cabal presents Pablo Latona in The NOW Show - A variety show...
URL:http://www.smithsalternative.com/events/the-now-show-91282
LOCATION:
ATTACH;FMTTYPE=image/jpeg:http://www.smithsalternative.com/infomaxim/assets/images/66/91282/f__31985_now.jpg
END:VEVENT
END:VCALENDAR