BEGIN:VCALENDAR
VERSION:2.0
PRODID:-//Eventsity//NONSGML v1.0//EN
CALSCALE:GREGORIAN
METHOD:PUBLISH
X-WR-CALNAME:Smith's Alternative
X-ORIGINAL-URL:http://www.smithsalternative.com
X-WR-CALDESC:Events for Smith's Alternative
BEGIN:VEVENT
DTSTART;VALUE=DATE-TIME:
DTEND;VALUE=DATE-TIME:20250411T103000
DTSTAMP:20260421T054318
CREATED:20250309T193506
LAST-MODIFIED:20250311T191129
UID:admin@eventsity.com
SUMMARY:Future Science Talks
DESCRIPTION:
URL:http://www.smithsalternative.com/events/future-science-talks-90597
LOCATION:
ATTACH;FMTTYPE=image/jpeg:http://www.smithsalternative.com/infomaxim/assets/images/66/90597/f__31801_fst.jpg
END:VEVENT
END:VCALENDAR