BEGIN:VCALENDAR
VERSION:2.0
PRODID:-//Eventsity//NONSGML v1.0//EN
CALSCALE:GREGORIAN
METHOD:PUBLISH
X-WR-CALNAME:Smith's Alternative
X-ORIGINAL-URL:http://www.smithsalternative.com
X-WR-CALDESC:Events for Smith's Alternative
BEGIN:VEVENT
DTSTART;VALUE=DATE-TIME:
DTEND;VALUE=DATE-TIME:20250115T110000
DTSTAMP:20260422T022545
CREATED:20250102T171839
LAST-MODIFIED:20250102T172034
UID:admin@eventsity.com
SUMMARY:Classical Capers
DESCRIPTION:Opera star Tobias Cole hosts an entertaining evening for classically trained...
URL:http://www.smithsalternative.com/events/classical-capers-89719
LOCATION:
ATTACH;FMTTYPE=image/jpeg:http://www.smithsalternative.com/infomaxim/assets/images/66/89719/f__2157_classicalcapers.jpg
END:VEVENT
END:VCALENDAR