BEGIN:VCALENDAR
VERSION:2.0
PRODID:-//Eventsity//NONSGML v1.0//EN
CALSCALE:GREGORIAN
METHOD:PUBLISH
X-WR-CALNAME:Smith's Alternative
X-ORIGINAL-URL:http://www.smithsalternative.com
X-WR-CALDESC:Events for Smith's Alternative
BEGIN:VEVENT
DTSTART;VALUE=DATE-TIME:
DTEND;VALUE=DATE-TIME:20250121T103000
DTSTAMP:20260422T021844
CREATED:20241228T154637
LAST-MODIFIED:20250120T213219
UID:admin@eventsity.com
SUMMARY:NoSax NoClar
DESCRIPTION:
URL:http://www.smithsalternative.com/events/nosax-noclar-89648
LOCATION:
ATTACH;FMTTYPE=image/jpeg:http://www.smithsalternative.com/infomaxim/assets/images/66/89648/f__31559_nosax.jpg
END:VEVENT
END:VCALENDAR