BEGIN:VCALENDAR
VERSION:2.0
PRODID:-//Eventsity//NONSGML v1.0//EN
CALSCALE:GREGORIAN
METHOD:PUBLISH
X-WR-CALNAME:Smith's Alternative
X-ORIGINAL-URL:http://www.smithsalternative.com
X-WR-CALDESC:Events for Smith's Alternative
BEGIN:VEVENT
DTSTART;VALUE=DATE-TIME:
DTEND;VALUE=DATE-TIME:20241208T050000
DTSTAMP:20260421T042211
CREATED:20241127T203421
LAST-MODIFIED:20241129T105754
UID:admin@eventsity.com
SUMMARY:Pachanga
DESCRIPTION:Follow your ears + enjoy this outdoor SUMMER SOUNDS street party featuring...
URL:http://www.smithsalternative.com/events/pachanga-89362
LOCATION:
ATTACH;FMTTYPE=image/jpeg:http://www.smithsalternative.com/infomaxim/assets/images/66/89362/f__31486_pachanga.jpg
END:VEVENT
END:VCALENDAR