BEGIN:VCALENDAR
VERSION:2.0
PRODID:-//Eventsity//NONSGML v1.0//EN
CALSCALE:GREGORIAN
METHOD:PUBLISH
X-WR-CALNAME:Smith's Alternative
X-ORIGINAL-URL:http://www.smithsalternative.com
X-WR-CALDESC:Events for Smith's Alternative
BEGIN:VEVENT
DTSTART;VALUE=DATE-TIME:
DTEND;VALUE=DATE-TIME:20250121T110000
DTSTAMP:20260422T021610
CREATED:20241120T172925
LAST-MODIFIED:20250106T183417
UID:admin@eventsity.com
SUMMARY:William Crighton Solo
DESCRIPTION:with special guest Beans On Toast
URL:http://www.smithsalternative.com/events/william-crighton-89271
LOCATION:
ATTACH;FMTTYPE=image/jpeg:http://www.smithsalternative.com/infomaxim/assets/images/66/89271/f__31459_wcbt.jpg
END:VEVENT
END:VCALENDAR