BEGIN:VCALENDAR
VERSION:2.0
PRODID:-//Eventsity//NONSGML v1.0//EN
CALSCALE:GREGORIAN
METHOD:PUBLISH
X-WR-CALNAME:Smith's Alternative
X-ORIGINAL-URL:http://www.smithsalternative.com
X-WR-CALDESC:Events for Smith's Alternative
BEGIN:VEVENT
DTSTART;VALUE=DATE-TIME:
DTEND;VALUE=DATE-TIME:20241125T110000
DTSTAMP:20260420T234827
CREATED:20241107T000044
LAST-MODIFIED:20241107T000659
UID:admin@eventsity.com
SUMMARY:That Poetry Thing
DESCRIPTION:Rosa O'Kane and Paul Magee with open mic
URL:http://www.smithsalternative.com/events/that-poetry-thing-89044
LOCATION:
ATTACH;FMTTYPE=image/jpeg:http://www.smithsalternative.com/infomaxim/assets/images/66/89044/f__31410_tpt251124.jpg
END:VEVENT
END:VCALENDAR