BEGIN:VCALENDAR
VERSION:2.0
PRODID:-//Eventsity//NONSGML v1.0//EN
CALSCALE:GREGORIAN
METHOD:PUBLISH
X-WR-CALNAME:Smith's Alternative
X-ORIGINAL-URL:http://www.smithsalternative.com
X-WR-CALDESC:Events for Smith's Alternative
BEGIN:VEVENT
DTSTART;VALUE=DATE-TIME:
DTEND;VALUE=DATE-TIME:20241122T133000
DTSTAMP:20260421T063641
CREATED:20241025T213032
LAST-MODIFIED:20241113T151428
UID:admin@eventsity.com
SUMMARY:The Den Hanrahan Collective
DESCRIPTION:A Double Bill
URL:http://www.smithsalternative.com/events/the-den-hanrahan-collective-88931
LOCATION:
ATTACH;FMTTYPE=image/jpeg:http://www.smithsalternative.com/infomaxim/assets/images/66/88931/f__29923_denh.jpg
END:VEVENT
END:VCALENDAR