BEGIN:VCALENDAR
VERSION:2.0
PRODID:-//Eventsity//NONSGML v1.0//EN
CALSCALE:GREGORIAN
METHOD:PUBLISH
X-WR-CALNAME:Smith's Alternative
X-ORIGINAL-URL:http://www.smithsalternative.com
X-WR-CALDESC:Events for Smith's Alternative
BEGIN:VEVENT
DTSTART;VALUE=DATE-TIME:
DTEND;VALUE=DATE-TIME:20241102T030000
DTSTAMP:20260421T111738
CREATED:20241010T212321
LAST-MODIFIED:20241010T213510
UID:admin@eventsity.com
SUMMARY:Mr Tim & the Fuzzy Elbows
DESCRIPTION:
URL:http://www.smithsalternative.com/events/mr-tim-the-fuzzy-elbows-88693
LOCATION:
ATTACH;FMTTYPE=image/jpeg:http://www.smithsalternative.com/infomaxim/assets/images/66/88693/f__31302_mrtim.jpg
END:VEVENT
END:VCALENDAR