BEGIN:VCALENDAR
VERSION:2.0
PRODID:-//Eventsity//NONSGML v1.0//EN
CALSCALE:GREGORIAN
METHOD:PUBLISH
X-WR-CALNAME:Smith's Alternative
X-ORIGINAL-URL:http://www.smithsalternative.com
X-WR-CALDESC:Events for Smith's Alternative
BEGIN:VEVENT
DTSTART;VALUE=DATE-TIME:
DTEND;VALUE=DATE-TIME:20241214T110000
DTSTAMP:20260421T020904
CREATED:20241002T121810
LAST-MODIFIED:20241002T122103
UID:admin@eventsity.com
SUMMARY:Skyscraper Stan and the Commission Flats
DESCRIPTION:
URL:http://www.smithsalternative.com/events/skyscraper-stan-and-the-commission-flats-88399
LOCATION:
ATTACH;FMTTYPE=image/jpeg:http://www.smithsalternative.com/infomaxim/assets/images/66/88399/f__31226_stan.jpg
END:VEVENT
END:VCALENDAR