BEGIN:VCALENDAR
VERSION:2.0
PRODID:-//Eventsity//NONSGML v1.0//EN
CALSCALE:GREGORIAN
METHOD:PUBLISH
X-WR-CALNAME:Smith's Alternative
X-ORIGINAL-URL:http://www.smithsalternative.com
X-WR-CALDESC:Events for Smith's Alternative
BEGIN:VEVENT
DTSTART;VALUE=DATE-TIME:
DTEND;VALUE=DATE-TIME:20241003T113000
DTSTAMP:20260421T164524
CREATED:20241001T060715
LAST-MODIFIED:20241001T132605
UID:admin@eventsity.com
SUMMARY:Kim Yang
DESCRIPTION:Fresh off the Cambridge folk festival and Edinburgh Fringe (UK), Taiwanese-Australian...
URL:http://www.smithsalternative.com/events/kim-yang-88379
LOCATION:
ATTACH;FMTTYPE=image/jpeg:http://www.smithsalternative.com/infomaxim/assets/images/66/88379/f__30109_kimy.jpg
END:VEVENT
END:VCALENDAR