BEGIN:VCALENDAR
VERSION:2.0
PRODID:-//Eventsity//NONSGML v1.0//EN
CALSCALE:GREGORIAN
METHOD:PUBLISH
X-WR-CALNAME:Smith's Alternative
X-ORIGINAL-URL:http://www.smithsalternative.com
X-WR-CALDESC:Events for Smith's Alternative
BEGIN:VEVENT
DTSTART;VALUE=DATE-TIME:
DTEND;VALUE=DATE-TIME:20241124T080000
DTSTAMP:20260421T063829
CREATED:20240924T220154
LAST-MODIFIED:20241002T123055
UID:admin@eventsity.com
SUMMARY:Benedict Moleta
DESCRIPTION:Western Australian singer-songwriter launches his ninth album 'Illuminated...
URL:http://www.smithsalternative.com/events/benedict-moleta-88278
LOCATION:
ATTACH;FMTTYPE=image/jpeg:http://www.smithsalternative.com/infomaxim/assets/images/66/88278/f__31197_benmol.jpg
END:VEVENT
END:VCALENDAR