BEGIN:VCALENDAR
VERSION:2.0
PRODID:-//Eventsity//NONSGML v1.0//EN
CALSCALE:GREGORIAN
METHOD:PUBLISH
X-WR-CALNAME:Smith's Alternative
X-ORIGINAL-URL:http://www.smithsalternative.com
X-WR-CALDESC:Events for Smith's Alternative
BEGIN:VEVENT
DTSTART;VALUE=DATE-TIME:
DTEND;VALUE=DATE-TIME:20241019T110000
DTSTAMP:20260426T005929
CREATED:20240912T191330
LAST-MODIFIED:20240912T194550
UID:admin@eventsity.com
SUMMARY:Mixed Bill Madness
DESCRIPTION:Mixed Bill Madness are excited to be back for our 6th mixed bill show with:VELVET...
URL:http://www.smithsalternative.com/events/mixed-bill-madness-88071
LOCATION:
ATTACH;FMTTYPE=image/jpeg:http://www.smithsalternative.com/infomaxim/assets/images/66/88071/f__31144_mbm.jpg
END:VEVENT
END:VCALENDAR