BEGIN:VCALENDAR
VERSION:2.0
PRODID:-//Eventsity//NONSGML v1.0//EN
CALSCALE:GREGORIAN
METHOD:PUBLISH
X-WR-CALNAME:Smith's Alternative
X-ORIGINAL-URL:http://www.smithsalternative.com
X-WR-CALDESC:Events for Smith's Alternative
BEGIN:VEVENT
DTSTART;VALUE=DATE-TIME:
DTEND;VALUE=DATE-TIME:20240928T110000
DTSTAMP:20260421T192124
CREATED:20240907T224158
LAST-MODIFIED:20240923T004322
UID:admin@eventsity.com
SUMMARY:James Fahy and Hashemoto Live
DESCRIPTION:Special unseen musical magic!
URL:http://www.smithsalternative.com/events/james-fahy-and-hashemoto-live-88029
LOCATION:
ATTACH;FMTTYPE=image/jpeg:http://www.smithsalternative.com/infomaxim/assets/images/66/88029/f__31131_hashy.jpg
END:VEVENT
END:VCALENDAR