BEGIN:VCALENDAR
VERSION:2.0
PRODID:-//Eventsity//NONSGML v1.0//EN
CALSCALE:GREGORIAN
METHOD:PUBLISH
X-WR-CALNAME:Smith's Alternative
X-ORIGINAL-URL:http://www.smithsalternative.com
X-WR-CALDESC:Events for Smith's Alternative
BEGIN:VEVENT
DTSTART;VALUE=DATE-TIME:
DTEND;VALUE=DATE-TIME:20241130T060000
DTSTAMP:20260421T063034
CREATED:20240904T003646
LAST-MODIFIED:20240904T011311
UID:admin@eventsity.com
SUMMARY:Barry Morgan All Key'd Up
DESCRIPTION:Barry Morgan is back - and he is all key'd up!
URL:http://www.smithsalternative.com/events/barry-morgan-87875
LOCATION:
ATTACH;FMTTYPE=image/jpeg:http://www.smithsalternative.com/infomaxim/assets/images/66/87875/f__31083_barry.jpg
END:VEVENT
END:VCALENDAR