BEGIN:VCALENDAR
VERSION:2.0
PRODID:-//Eventsity//NONSGML v1.0//EN
CALSCALE:GREGORIAN
METHOD:PUBLISH
X-WR-CALNAME:Smith's Alternative
X-ORIGINAL-URL:http://www.smithsalternative.com
X-WR-CALDESC:Events for Smith's Alternative
BEGIN:VEVENT
DTSTART;VALUE=DATE-TIME:
DTEND;VALUE=DATE-TIME:20240929T050000
DTSTAMP:20260421T192316
CREATED:20240829T125455
LAST-MODIFIED:20240829T130609
UID:admin@eventsity.com
SUMMARY:Orfeevi Ritmi
DESCRIPTION:
URL:http://www.smithsalternative.com/events/orfeevi-ritmi-87787
LOCATION:
ATTACH;FMTTYPE=image/jpeg:http://www.smithsalternative.com/infomaxim/assets/images/66/87787/f__31072_alister_29sep24.jpg
END:VEVENT
END:VCALENDAR