BEGIN:VCALENDAR
VERSION:2.0
PRODID:-//Eventsity//NONSGML v1.0//EN
CALSCALE:GREGORIAN
METHOD:PUBLISH
X-WR-CALNAME:Smith's Alternative
X-ORIGINAL-URL:http://www.smithsalternative.com
X-WR-CALDESC:Events for Smith's Alternative
BEGIN:VEVENT
DTSTART;VALUE=DATE-TIME:
DTEND;VALUE=DATE-TIME:20240906T103000
DTSTAMP:20260422T003403
CREATED:20240811T230509
LAST-MODIFIED:20240811T231359
UID:admin@eventsity.com
SUMMARY:Freelings
DESCRIPTION:'Drinking With Poseidon' Single Launch
URL:http://www.smithsalternative.com/events/freelings-87488
LOCATION:
ATTACH;FMTTYPE=image/jpeg:http://www.smithsalternative.com/infomaxim/assets/images/66/87488/f__30990_freel.jpg
END:VEVENT
END:VCALENDAR