BEGIN:VCALENDAR
VERSION:2.0
PRODID:-//Eventsity//NONSGML v1.0//EN
CALSCALE:GREGORIAN
METHOD:PUBLISH
X-WR-CALNAME:Smith's Alternative
X-ORIGINAL-URL:http://www.smithsalternative.com
X-WR-CALDESC:Events for Smith's Alternative
BEGIN:VEVENT
DTSTART;VALUE=DATE-TIME:
DTEND;VALUE=DATE-TIME:20240825T070000
DTSTAMP:20260425T015634
CREATED:20240808T021211
LAST-MODIFIED:20240815T204814
UID:admin@eventsity.com
SUMMARY:Boyd Meets Girl
DESCRIPTION:
URL:http://www.smithsalternative.com/events/boyd-meets-girl-87441
LOCATION:
ATTACH;FMTTYPE=image/jpeg:http://www.smithsalternative.com/infomaxim/assets/images/66/87441/f__30977_boyd_meets_girl.jpg
END:VEVENT
END:VCALENDAR