BEGIN:VCALENDAR
VERSION:2.0
PRODID:-//Eventsity//NONSGML v1.0//EN
CALSCALE:GREGORIAN
METHOD:PUBLISH
X-WR-CALNAME:Smith's Alternative
X-ORIGINAL-URL:http://www.smithsalternative.com
X-WR-CALDESC:Events for Smith's Alternative
BEGIN:VEVENT
DTSTART;VALUE=DATE-TIME:
DTEND;VALUE=DATE-TIME:20241020T110000
DTSTAMP:20260421T184427
CREATED:20240805T115643
LAST-MODIFIED:20240805T131707
UID:admin@eventsity.com
SUMMARY:Sarah Carroll
DESCRIPTION:
URL:http://www.smithsalternative.com/events/sarah-carroll-87378
LOCATION:
ATTACH;FMTTYPE=image/jpeg:http://www.smithsalternative.com/infomaxim/assets/images/66/87378/f__30959_sarahcc.jpg
END:VEVENT
END:VCALENDAR