BEGIN:VCALENDAR
VERSION:2.0
PRODID:-//Eventsity//NONSGML v1.0//EN
CALSCALE:GREGORIAN
METHOD:PUBLISH
X-WR-CALNAME:Smith's Alternative
X-ORIGINAL-URL:http://www.smithsalternative.com
X-WR-CALDESC:Events for Smith's Alternative
BEGIN:VEVENT
DTSTART;VALUE=DATE-TIME:
DTEND;VALUE=DATE-TIME:20240823T133000
DTSTAMP:20260421T184627
CREATED:20240804T205223
LAST-MODIFIED:20240804T205633
UID:admin@eventsity.com
SUMMARY:Soiree of Sin
DESCRIPTION:Come one, come all for a bloody good time! Canberra's home of horror cabaret...
URL:http://www.smithsalternative.com/events/soiree-of-sin-87363
LOCATION:
ATTACH;FMTTYPE=image/jpeg:http://www.smithsalternative.com/infomaxim/assets/images/66/87363/f__30952_soir.jpg
END:VEVENT
END:VCALENDAR