BEGIN:VCALENDAR
VERSION:2.0
PRODID:-//Eventsity//NONSGML v1.0//EN
CALSCALE:GREGORIAN
METHOD:PUBLISH
X-WR-CALNAME:Smith's Alternative
X-ORIGINAL-URL:http://www.smithsalternative.com
X-WR-CALDESC:Events for Smith's Alternative
BEGIN:VEVENT
DTSTART;VALUE=DATE-TIME:
DTEND;VALUE=DATE-TIME:20241013T080000
DTSTAMP:20260421T165045
CREATED:20240801T200427
LAST-MODIFIED:20240801T212040
UID:admin@eventsity.com
SUMMARY:Bella Groove
DESCRIPTION:
URL:http://www.smithsalternative.com/events/bella-groove-87301
LOCATION:
ATTACH;FMTTYPE=image/jpeg:http://www.smithsalternative.com/infomaxim/assets/images/66/87301/f__30931_bella.jpg
END:VEVENT
END:VCALENDAR