BEGIN:VCALENDAR
VERSION:2.0
PRODID:-//Eventsity//NONSGML v1.0//EN
CALSCALE:GREGORIAN
METHOD:PUBLISH
X-WR-CALNAME:Smith's Alternative
X-ORIGINAL-URL:http://www.smithsalternative.com
X-WR-CALDESC:Events for Smith's Alternative
BEGIN:VEVENT
DTSTART;VALUE=DATE-TIME:
DTEND;VALUE=DATE-TIME:20240829T110000
DTSTAMP:20260422T003403
CREATED:20240801T165229
LAST-MODIFIED:20240815T205216
UID:admin@eventsity.com
SUMMARY:Willowbank Grove
DESCRIPTION:Dynamic alternative rock
URL:http://www.smithsalternative.com/events/willowbank-grove-87294
LOCATION:
ATTACH;FMTTYPE=image/jpeg:http://www.smithsalternative.com/infomaxim/assets/images/66/87294/f__30925_willowbank_grove.jpg
END:VEVENT
END:VCALENDAR