BEGIN:VCALENDAR
VERSION:2.0
PRODID:-//Eventsity//NONSGML v1.0//EN
CALSCALE:GREGORIAN
METHOD:PUBLISH
X-WR-CALNAME:Smith's Alternative
X-ORIGINAL-URL:http://www.smithsalternative.com
X-WR-CALDESC:Events for Smith's Alternative
BEGIN:VEVENT
DTSTART;VALUE=DATE-TIME:
DTEND;VALUE=DATE-TIME:20240907T133000
DTSTAMP:20260420T030427
CREATED:20240719T131804
LAST-MODIFIED:20240721T150502
UID:admin@eventsity.com
SUMMARY:Larry's Cabaret Lead Astray
DESCRIPTION:Sydney's underground cabaret rooms have been ablaze with provocateurs. For...
URL:http://www.smithsalternative.com/events/larry-s-cabaret-lead-astray-87108
LOCATION:
ATTACH;FMTTYPE=image/jpeg:http://www.smithsalternative.com/infomaxim/assets/images/66/87108/f__30879_lead.jpg
END:VEVENT
END:VCALENDAR