BEGIN:VCALENDAR
VERSION:2.0
PRODID:-//Eventsity//NONSGML v1.0//EN
CALSCALE:GREGORIAN
METHOD:PUBLISH
X-WR-CALNAME:Smith's Alternative
X-ORIGINAL-URL:http://www.smithsalternative.com
X-WR-CALDESC:Events for Smith's Alternative
BEGIN:VEVENT
DTSTART;VALUE=DATE-TIME:
DTEND;VALUE=DATE-TIME:20241121T110000
DTSTAMP:20260421T063225
CREATED:20240719T005828
LAST-MODIFIED:20240926T142243
UID:admin@eventsity.com
SUMMARY:Elana Stone
DESCRIPTION:Smith's welcomes All Our Exes Live in Texas' Elana Stone to town for the...
URL:http://www.smithsalternative.com/events/elana-stone-87101
LOCATION:
ATTACH;FMTTYPE=image/jpeg:http://www.smithsalternative.com/infomaxim/assets/images/66/87101/f__31216_elanastone.jpg
END:VEVENT
END:VCALENDAR