BEGIN:VCALENDAR
VERSION:2.0
PRODID:-//Eventsity//NONSGML v1.0//EN
CALSCALE:GREGORIAN
METHOD:PUBLISH
X-WR-CALNAME:Smith's Alternative
X-ORIGINAL-URL:http://www.smithsalternative.com
X-WR-CALDESC:Events for Smith's Alternative
BEGIN:VEVENT
DTSTART;VALUE=DATE-TIME:
DTEND;VALUE=DATE-TIME:20240725T130000
DTSTAMP:20260422T075718
CREATED:20240702T150440
LAST-MODIFIED:20240702T151512
UID:admin@eventsity.com
SUMMARY:Good Ramen
DESCRIPTION:With At Last: Broadcast & Buzzcuts
URL:http://www.smithsalternative.com/events/good-ramen-86857
LOCATION:
ATTACH;FMTTYPE=image/jpeg:http://www.smithsalternative.com/infomaxim/assets/images/66/86857/f__30817_ramen.jpg
END:VEVENT
END:VCALENDAR