BEGIN:VCALENDAR
VERSION:2.0
PRODID:-//Eventsity//NONSGML v1.0//EN
CALSCALE:GREGORIAN
METHOD:PUBLISH
X-WR-CALNAME:Smith's Alternative
X-ORIGINAL-URL:http://www.smithsalternative.com
X-WR-CALDESC:Events for Smith's Alternative
BEGIN:VEVENT
DTSTART;VALUE=DATE-TIME:
DTEND;VALUE=DATE-TIME:20240928T070000
DTSTAMP:20260421T192124
CREATED:20240621T232220
LAST-MODIFIED:20240621T232754
UID:admin@eventsity.com
SUMMARY:Los Romeos Oxidados
DESCRIPTION:One of our favourite Sydney bands returns for another afternoon of raucous...
URL:http://www.smithsalternative.com/events/los-romeos-oxidados-86711
LOCATION:
ATTACH;FMTTYPE=image/jpeg:http://www.smithsalternative.com/infomaxim/assets/images/66/86711/f__30776_oxid.jpg
END:VEVENT
END:VCALENDAR