BEGIN:VCALENDAR
VERSION:2.0
PRODID:-//Eventsity//NONSGML v1.0//EN
CALSCALE:GREGORIAN
METHOD:PUBLISH
X-WR-CALNAME:Smith's Alternative
X-ORIGINAL-URL:http://www.smithsalternative.com
X-WR-CALDESC:Events for Smith's Alternative
BEGIN:VEVENT
DTSTART;VALUE=DATE-TIME:
DTEND;VALUE=DATE-TIME:20240630T113000
DTSTAMP:20260421T184115
CREATED:20240607T210131
LAST-MODIFIED:20240611T023935
UID:admin@eventsity.com
SUMMARY:Folk, Punk, Whatevs
DESCRIPTION:Three of Smith's favourite musical acts, loosely alignerd in the genres of...
URL:http://www.smithsalternative.com/events/folk-punk-whatevs-86504
LOCATION:
ATTACH;FMTTYPE=image/jpeg:http://www.smithsalternative.com/infomaxim/assets/images/66/86504/f__30716_folkpp.jpg
END:VEVENT
END:VCALENDAR