BEGIN:VCALENDAR
VERSION:2.0
PRODID:-//Eventsity//NONSGML v1.0//EN
CALSCALE:GREGORIAN
METHOD:PUBLISH
X-WR-CALNAME:Smith's Alternative
X-ORIGINAL-URL:http://www.smithsalternative.com
X-WR-CALDESC:Events for Smith's Alternative
BEGIN:VEVENT
DTSTART;VALUE=DATE-TIME:
DTEND;VALUE=DATE-TIME:20240529T110000
DTSTAMP:20260422T064707
CREATED:20240517T134829
LAST-MODIFIED:20240517T135200
UID:admin@eventsity.com
SUMMARY:Greg Stott's Utopia Collective
DESCRIPTION:
URL:http://www.smithsalternative.com/events/greg-stott-s-utopia-collective-86282
LOCATION:
ATTACH;FMTTYPE=image/jpeg:http://www.smithsalternative.com/infomaxim/assets/images/66/86282/f__30646_stoat.jpg
END:VEVENT
END:VCALENDAR